BEGIN:VCALENDAR
VERSION:2.0
PRODID:-//Sunridge Golf and Recreations - ECPv6.15.18//NONSGML v1.0//EN
CALSCALE:GREGORIAN
METHOD:PUBLISH
X-ORIGINAL-URL:https://www.playsunridge.com
X-WR-CALDESC:Events for Sunridge Golf and Recreations
REFRESH-INTERVAL;VALUE=DURATION:PT1H
X-Robots-Tag:noindex
X-PUBLISHED-TTL:PT1H
BEGIN:VTIMEZONE
TZID:America/Los_Angeles
BEGIN:DAYLIGHT
TZOFFSETFROM:-0800
TZOFFSETTO:-0700
TZNAME:PDT
DTSTART:20240310T100000
END:DAYLIGHT
BEGIN:STANDARD
TZOFFSETFROM:-0700
TZOFFSETTO:-0800
TZNAME:PST
DTSTART:20241103T090000
END:STANDARD
BEGIN:DAYLIGHT
TZOFFSETFROM:-0800
TZOFFSETTO:-0700
TZNAME:PDT
DTSTART:20250309T100000
END:DAYLIGHT
BEGIN:STANDARD
TZOFFSETFROM:-0700
TZOFFSETTO:-0800
TZNAME:PST
DTSTART:20251102T090000
END:STANDARD
BEGIN:DAYLIGHT
TZOFFSETFROM:-0800
TZOFFSETTO:-0700
TZNAME:PDT
DTSTART:20260308T100000
END:DAYLIGHT
BEGIN:STANDARD
TZOFFSETFROM:-0700
TZOFFSETTO:-0800
TZNAME:PST
DTSTART:20261101T090000
END:STANDARD
END:VTIMEZONE
BEGIN:VEVENT
DTSTART;TZID=America/Los_Angeles:20250503T090000
DTEND;TZID=America/Los_Angeles:20250503T090000
DTSTAMP:20260419T162319
CREATED:20250416T174300Z
LAST-MODIFIED:20250416T174404Z
UID:10000001-1746262800-1746262800@www.playsunridge.com
SUMMARY:Tres de Mayo Golf Tournament
DESCRIPTION:  \nGrab your crew and kick off the weekend with some fun at the Tres de Mayo Golf Tournament at Sunridge Golf Course on Friday\, May 3rd at 9:00 AM. It’s a 4-person scramble with great golf\, good food\, and a little friendly competition. \nHere’s what you need to know: \n\n4-Person Scramble\nLunch included\n$75 per player + $5 cash buy-in for prizes\nPrizes for low score and on-course contests\n\nSign up in the clubhouse or give us a call at 775-267-4448 to get your team on the list. \nSpace is limited\, so register today and don’t miss out.
URL:https://www.playsunridge.com/event/tres-de-mayo-golf-tournament/
END:VEVENT
END:VCALENDAR