BEGIN:VCALENDAR
VERSION:2.0
PRODID:-//Sunridge Golf and Recreations - ECPv6.15.18//NONSGML v1.0//EN
CALSCALE:GREGORIAN
METHOD:PUBLISH
X-WR-CALNAME:Sunridge Golf and Recreations
X-ORIGINAL-URL:https://www.playsunridge.com
X-WR-CALDESC:Events for Sunridge Golf and Recreations
REFRESH-INTERVAL;VALUE=DURATION:PT1H
X-Robots-Tag:noindex
X-PUBLISHED-TTL:PT1H
BEGIN:VTIMEZONE
TZID:America/Los_Angeles
BEGIN:DAYLIGHT
TZOFFSETFROM:-0800
TZOFFSETTO:-0700
TZNAME:PDT
DTSTART:20240310T100000
END:DAYLIGHT
BEGIN:STANDARD
TZOFFSETFROM:-0700
TZOFFSETTO:-0800
TZNAME:PST
DTSTART:20241103T090000
END:STANDARD
BEGIN:DAYLIGHT
TZOFFSETFROM:-0800
TZOFFSETTO:-0700
TZNAME:PDT
DTSTART:20250309T100000
END:DAYLIGHT
BEGIN:STANDARD
TZOFFSETFROM:-0700
TZOFFSETTO:-0800
TZNAME:PST
DTSTART:20251102T090000
END:STANDARD
BEGIN:DAYLIGHT
TZOFFSETFROM:-0800
TZOFFSETTO:-0700
TZNAME:PDT
DTSTART:20260308T100000
END:DAYLIGHT
BEGIN:STANDARD
TZOFFSETFROM:-0700
TZOFFSETTO:-0800
TZNAME:PST
DTSTART:20261101T090000
END:STANDARD
END:VTIMEZONE
BEGIN:VEVENT
DTSTART;TZID=America/Los_Angeles:20251004T090000
DTEND;TZID=America/Los_Angeles:20251004T090000
DTSTAMP:20260419T074542
CREATED:20250724T000246Z
LAST-MODIFIED:20250724T000246Z
UID:10000015-1759568400-1759568400@www.playsunridge.com
SUMMARY:Oktoberfest Tournament
DESCRIPTION:Oktoberfest Tournament\nBRATS   –   PRETZELS    –    BEERS \nGet your foursome together for our annual Oktoberfest Golf Tournament on Saturday\, Oct.4 at 9:00 AM!  \n\nOCTOBER 4TH – 9AM SHOTGUN\n$75 PER PLAYER\, $15 PER MEMBER\nINCLUDES THEMED FOOD & DRINKS\n4 PERSON SCRAMBLE\n\n*Pitch in $5 CASH to win games and on-course prizes. \nMust register to play so sign up in the pro shop or call for reservations today at 775-267-4448.
URL:https://www.playsunridge.com/event/oktoberfest-tournament/
ATTACH;FMTTYPE=image/png:https://www.playsunridge.com/wp-content/uploads/sites/7360/2025/07/oktoberfest-golf-tournament-4.png
END:VEVENT
END:VCALENDAR